BEGIN:VCALENDAR
VERSION:2.0
PRODID:-//https://www.distillerie-coinlescuvry.com///NONSGML kigkonsult.se iCalcreator 2.10.15//
METHOD:PUBLISH
BEGIN:VEVENT
UID:20260420T103649CEST-1808gvpZSL@https://www.distillerie-coinlescuvry.com
 /
DTSTAMP:20260420T083649Z
DESCRIPTION: https://www.distillerie-coinlescuvry.com/index.php/formations/
 evenement/4-taille-en-vert
DTSTART:20250607T073000Z
DTEND:20250607T100000Z
LOCATION:Verger Ecole Coin les cuvry (Chemin des Sades\, Coin-lès-Cuvry\, M
 oselle\, Grand Est)
SUMMARY:Taille en vert
URL:https://www.distillerie-coinlescuvry.com/index.php/formations/evenement
 /4-taille-en-vert
END:VEVENT
END:VCALENDAR
